BEGIN:VCALENDAR
VERSION:2.0
PRODID:-//jEvents 2.0 for Joomla//EN
CALSCALE:GREGORIAN
METHOD:PUBLISH
BEGIN:VTIMEZONE
TZID:Europe/Vienna
BEGIN:STANDARD
DTSTART:20231029T020000
RDATE:20240331T030000
TZOFFSETFROM:+0200
TZOFFSETTO:+0100
TZNAME:Europe/Vienna CET
END:STANDARD
BEGIN:STANDARD
DTSTART:20241027T020000
RDATE:20250330T030000
TZOFFSETFROM:+0200
TZOFFSETTO:+0100
TZNAME:Europe/Vienna CET
END:STANDARD
BEGIN:STANDARD
DTSTART:20251026T020000
RDATE:20260329T030000
TZOFFSETFROM:+0200
TZOFFSETTO:+0100
TZNAME:Europe/Vienna CET
END:STANDARD
BEGIN:STANDARD
DTSTART:20261025T020000
RDATE:20270328T030000
TZOFFSETFROM:+0200
TZOFFSETTO:+0100
TZNAME:Europe/Vienna CET
END:STANDARD
BEGIN:STANDARD
DTSTART:20271031T020000
RDATE:20280326T030000
TZOFFSETFROM:+0200
TZOFFSETTO:+0100
TZNAME:Europe/Vienna CET
END:STANDARD
BEGIN:STANDARD
DTSTART:20281029T020000
RDATE:20290325T030000
TZOFFSETFROM:+0200
TZOFFSETTO:+0100
TZNAME:Europe/Vienna CET
END:STANDARD
BEGIN:STANDARD
DTSTART:20291028T020000
RDATE:20300331T030000
TZOFFSETFROM:+0200
TZOFFSETTO:+0100
TZNAME:Europe/Vienna CET
END:STANDARD
BEGIN:STANDARD
DTSTART:20301027T020000
RDATE:20310330T030000
TZOFFSETFROM:+0200
TZOFFSETTO:+0100
TZNAME:Europe/Vienna CET
END:STANDARD
BEGIN:STANDARD
DTSTART:20311026T020000
RDATE:20320328T030000
TZOFFSETFROM:+0200
TZOFFSETTO:+0100
TZNAME:Europe/Vienna CET
END:STANDARD
BEGIN:DAYLIGHT
DTSTART:20230815T000000
RDATE:20231029T020000
TZOFFSETFROM:+0100
TZOFFSETTO:+0200
TZNAME:Europe/Vienna CEST
END:DAYLIGHT
BEGIN:DAYLIGHT
DTSTART:20240331T030000
RDATE:20241027T020000
TZOFFSETFROM:+0100
TZOFFSETTO:+0200
TZNAME:Europe/Vienna CEST
END:DAYLIGHT
BEGIN:DAYLIGHT
DTSTART:20250330T030000
RDATE:20251026T020000
TZOFFSETFROM:+0100
TZOFFSETTO:+0200
TZNAME:Europe/Vienna CEST
END:DAYLIGHT
BEGIN:DAYLIGHT
DTSTART:20260329T030000
RDATE:20261025T020000
TZOFFSETFROM:+0100
TZOFFSETTO:+0200
TZNAME:Europe/Vienna CEST
END:DAYLIGHT
BEGIN:DAYLIGHT
DTSTART:20270328T030000
RDATE:20271031T020000
TZOFFSETFROM:+0100
TZOFFSETTO:+0200
TZNAME:Europe/Vienna CEST
END:DAYLIGHT
BEGIN:DAYLIGHT
DTSTART:20280326T030000
RDATE:20281029T020000
TZOFFSETFROM:+0100
TZOFFSETTO:+0200
TZNAME:Europe/Vienna CEST
END:DAYLIGHT
BEGIN:DAYLIGHT
DTSTART:20290325T030000
RDATE:20291028T020000
TZOFFSETFROM:+0100
TZOFFSETTO:+0200
TZNAME:Europe/Vienna CEST
END:DAYLIGHT
BEGIN:DAYLIGHT
DTSTART:20300331T030000
RDATE:20301027T020000
TZOFFSETFROM:+0100
TZOFFSETTO:+0200
TZNAME:Europe/Vienna CEST
END:DAYLIGHT
BEGIN:DAYLIGHT
DTSTART:20310330T030000
RDATE:20311026T020000
TZOFFSETFROM:+0100
TZOFFSETTO:+0200
TZNAME:Europe/Vienna CEST
END:DAYLIGHT
END:VTIMEZONE
BEGIN:VEVENT
UID:12765d6adcb98dee931570bab3ea7446
CATEGORIES:BMK Brandenberg
CREATED:20240124T191247
SUMMARY:Mariä Himmelfahrt
LOCATION:Pfarrkirche Brandenberg
URL;VALUE=URI:https://www.bmk-brandenberg.at/kalender/kalender-export/Eventdetail/596/-/m
 ariae-himmelfahrt?tmpl=component
DESCRIPTION: Dieser Event wurde importiert von: https://www.bmk-brandenberg.at/kalender
 /kalender-export/Eventdetail/596/-/mariae-himmelfahrt?tmpl=component (https
 ://www.bmk-brandenberg.at/kalender/kalender-export/Eventdetail/596/-/mariae
 -himmelfahrt?tmpl=component)
X-ALT-DESC;FMTTYPE=text/html: <a href="https://www.bmk-brandenberg.at/kalender/kalender-export/Eventdeta
 il/596/-/mariae-himmelfahrt?tmpl=component">Dieser Event wurde importiert v
 on: https://www.bmk-brandenberg.at/kalender/kalender-export/Eventdetail/596
 /-/mariae-himmelfahrt?tmpl=component</a>X-EXTRAINFO:Vereinskirchen
DTSTAMP:20260419T210733
DTSTART;TZID=Europe/Vienna;VALUE=DATE:20240815
DTEND;TZID=Europe/Vienna;VALUE=DATE:20240816
SEQUENCE:0
TRANSP:OPAQUE
END:VEVENT
END:VCALENDAR